BEGIN:VCALENDAR
VERSION:2.0
PRODID:-//Ontario Knights Of Columbus - ECPv5.0.1//NONSGML v1.0//EN
CALSCALE:GREGORIAN
METHOD:PUBLISH
X-WR-CALNAME:Ontario Knights Of Columbus
X-ORIGINAL-URL:https://ontariokofc.ca
X-WR-CALDESC:Events for Ontario Knights Of Columbus
BEGIN:VTIMEZONE
TZID:UTC
BEGIN:STANDARD
TZOFFSETFROM:+0000
TZOFFSETTO:+0000
TZNAME:UTC
DTSTART:20210101T000000
END:STANDARD
END:VTIMEZONE
BEGIN:VEVENT
DTSTART;TZID=UTC:20211003T193000
DTEND;TZID=UTC:20211003T200000
DTSTAMP:20260423T151148
CREATED:20210726T145940Z
LAST-MODIFIED:20210726T150141Z
UID:12269-1633289400-1633291200@ontariokofc.ca
SUMMARY:Top Team Directors Meeting
DESCRIPTION:Ontario State Directors virtual meeting. \n
URL:https://ontariokofc.ca/calendar/top-team-directors-meeting-3/
CATEGORIES:Council Event,Event
END:VEVENT
END:VCALENDAR