BEGIN:VCALENDAR
VERSION:2.0
PRODID:-//Ontario Knights Of Columbus - ECPv5.0.1//NONSGML v1.0//EN
CALSCALE:GREGORIAN
METHOD:PUBLISH
X-WR-CALNAME:Ontario Knights Of Columbus
X-ORIGINAL-URL:https://ontariokofc.ca
X-WR-CALDESC:Events for Ontario Knights Of Columbus
BEGIN:VTIMEZONE
TZID:UTC
BEGIN:STANDARD
TZOFFSETFROM:+0000
TZOFFSETTO:+0000
TZNAME:UTC
DTSTART:20210101T000000
END:STANDARD
END:VTIMEZONE
BEGIN:VEVENT
DTSTART;TZID=UTC:20211003T140000
DTEND;TZID=UTC:20211003T170000
DTSTAMP:20260423T134350
CREATED:20210902T181946Z
LAST-MODIFIED:20210902T183010Z
UID:12668-1633269600-1633280400@ontariokofc.ca
SUMMARY:Life Chain Sunday
DESCRIPTION:Life Chain Sunday | October 3\, 2021 \nSunday\, October 3\, 2021 is Life Chain Sunday.  Please encourage your fellow Knights and members of your parish to join the silent vigil holding pro-life placards at the designated intersection for your parish.  The vigil starts at 2:00pm.  If there is no one designated from your parish as the organizer\, please reach out to Campaign Life Coalition (https://www.campaignlifecoalition.com/life-chain) to obtain more information on how your parish can get involved.  It is surprising how being a silent witness for life will trigger a subset of people to rethink their position and not go ahead with an abortion or to encourage another to not do so. \n\nWe are the premiere advocate for legal and cultural change in Canada with respect to protecting human life and the family. Campaign Life Coalition is a national\, non-profit organization with offices from coast-to-coast. We work tirelessly to heal the cultural insanity that leads our nation to tolerate the killing of 100\,000 pre-born Canadian … \n
URL:https://ontariokofc.ca/calendar/life-chain-sunday/
CATEGORIES:Council Event,Event
END:VEVENT
END:VCALENDAR