BEGIN:VCALENDAR
VERSION:2.0
PRODID:-//Ontario Knights Of Columbus - ECPv5.0.1//NONSGML v1.0//EN
CALSCALE:GREGORIAN
METHOD:PUBLISH
X-WR-CALNAME:Ontario Knights Of Columbus
X-ORIGINAL-URL:https://ontariokofc.ca
X-WR-CALDESC:Events for Ontario Knights Of Columbus
BEGIN:VTIMEZONE
TZID:UTC
BEGIN:STANDARD
TZOFFSETFROM:+0000
TZOFFSETTO:+0000
TZNAME:UTC
DTSTART:20210101T000000
END:STANDARD
END:VTIMEZONE
BEGIN:VEVENT
DTSTART;TZID=UTC:20210318T200000
DTEND;TZID=UTC:20210318T203000
DTSTAMP:20260423T205330
CREATED:20210319T133454Z
LAST-MODIFIED:20210319T134621Z
UID:11115-1616097600-1616099400@ontariokofc.ca
SUMMARY:Fraternal Webinars: Revised Criteria for Council Awards
DESCRIPTION:Fraternal Webinars | Thursday March 18\, 2021 : 8:00 p.m. EDT \n\nRevised criteria for 2020 – 2021 council awards\nAchieving these awards under pandemic restrictions\nMethods to engage members\n\nRegister Now \n
URL:https://ontariokofc.ca/calendar/fraternal-webinars-revised-criteria-for-council-awards/
CATEGORIES:Council Event
END:VEVENT
END:VCALENDAR