BEGIN:VCALENDAR
VERSION:2.0
PRODID:-//Ontario Knights Of Columbus - ECPv5.0.1//NONSGML v1.0//EN
CALSCALE:GREGORIAN
METHOD:PUBLISH
X-WR-CALNAME:Ontario Knights Of Columbus
X-ORIGINAL-URL:https://ontariokofc.ca
X-WR-CALDESC:Events for Ontario Knights Of Columbus
BEGIN:VTIMEZONE
TZID:UTC
BEGIN:STANDARD
TZOFFSETFROM:+0000
TZOFFSETTO:+0000
TZNAME:UTC
DTSTART:20210101T000000
END:STANDARD
END:VTIMEZONE
BEGIN:VEVENT
DTSTART;VALUE=DATE:20210805
DTEND;VALUE=DATE:20210806
DTSTAMP:20260423T172703
CREATED:20210804T143429Z
LAST-MODIFIED:20210804T155031Z
UID:12362-1628121600-1628207999@ontariokofc.ca
SUMMARY:First day of Novena Prayer for Blessed Michael McGivney
DESCRIPTION:The Honoris Committee wishes to remind our Brothers and their Families that the Memorial Day for our Blessed Founder is coming up on August 13th. We suggest you say a Novena alone or publicly starting August 5th\, Thursday. You may use the familiar Canonization Prayer Card or say the Novena\, Blessed Michael McGivney Novena English/ French or Video Novena. For more information visit www.michaeljmcgivneyhonoris.ca \nYou may wish to speak to your Pastor/Chaplain to hold a Mass if possible on the 13th. \nBlessed Michael McGivney\,\npray for us. \nMichael O’Neill\nState Chairman\, Blessed Michael McGivney Guild/Honoris \n
URL:https://ontariokofc.ca/calendar/first-day-of-novena-prayer-for-blessed-michael-mcgivney/
CATEGORIES:Council Event
END:VEVENT
END:VCALENDAR