BEGIN:VCALENDAR
VERSION:2.0
PRODID:-//Ontario Knights Of Columbus - ECPv5.0.1//NONSGML v1.0//EN
CALSCALE:GREGORIAN
METHOD:PUBLISH
X-WR-CALNAME:Ontario Knights Of Columbus
X-ORIGINAL-URL:https://ontariokofc.ca
X-WR-CALDESC:Events for Ontario Knights Of Columbus
BEGIN:VTIMEZONE
TZID:UTC
BEGIN:STANDARD
TZOFFSETFROM:+0000
TZOFFSETTO:+0000
TZNAME:UTC
DTSTART:20210101T000000
END:STANDARD
END:VTIMEZONE
BEGIN:VEVENT
DTSTART;TZID=UTC:20210605T090000
DTEND;TZID=UTC:20210605T170000
DTSTAMP:20260423T205402
CREATED:20210603T185848Z
LAST-MODIFIED:20210603T190018Z
UID:11889-1622883600-1622912400@ontariokofc.ca
SUMMARY:Columbian Squires 67th Annual Ontario Provincial Convention
DESCRIPTION:Columbian Squires 67th Annual Ontario Provincial Convention\nSaturday June 5\, 2021 at 9:00 am via Zoom \nPlease join us for the 2021 Columbian Squires Convention Webinar to be held on Saturday June 5th beginning at 9:00 am and invite your Council members to join and support our Squires. \nGeneral outline of the day:\n9:30- 10:00 – Live Holy Mass\n10:05-10:30 – Digital Investiture ( Launching Brand New Format & Content)\n10:35-11:30 – General Meeting – Elections & Awards\n11:35-12:00 – Short Break\n12:00- 1:30 – Video Games Tournament (There is a separate link to register for the Games. For those who want to attend the Convention and also take part in the Games after you need to sign up for both). \nPlease use the Zoom Meeting link to register by June 3rd.\nAfter registering this will be the same link to join the actual Convention.\nConvention Registration and Convention Zoom Link https://us02web.zoom.us/j/82347962692?pwd=R0FvR3VrbmIvYTc3NXpTRFAzYnI4QT09 \nFor more information\, please contact \nNarciso Rodrigues\nState Squires Director Columbian Squires Ontario Provincial Board\n416-303-1337 or call Ontario State office at 1800-759-0959 \n  \n
URL:https://ontariokofc.ca/calendar/columbian-squires-67th-annual-ontario-provincial-convention/
CATEGORIES:Event
END:VEVENT
END:VCALENDAR