BEGIN:VCALENDAR
VERSION:2.0
PRODID:-//Ontario Knights Of Columbus - ECPv5.0.1//NONSGML v1.0//EN
CALSCALE:GREGORIAN
METHOD:PUBLISH
X-WR-CALNAME:Ontario Knights Of Columbus
X-ORIGINAL-URL:https://ontariokofc.ca
X-WR-CALDESC:Events for Ontario Knights Of Columbus
BEGIN:VTIMEZONE
TZID:UTC
BEGIN:STANDARD
TZOFFSETFROM:+0000
TZOFFSETTO:+0000
TZNAME:UTC
DTSTART:20210101T000000
END:STANDARD
END:VTIMEZONE
BEGIN:VEVENT
DTSTART;TZID=UTC:20210916T200000
DTEND;TZID=UTC:20210916T203000
DTSTAMP:20260423T144504
CREATED:20210902T184218Z
LAST-MODIFIED:20210902T184329Z
UID:12670-1631822400-1631824200@ontariokofc.ca
SUMMARY:Church Drives & Membership Engagement
DESCRIPTION:Church Drives & Membership Engagement | Thurs.\, Sep. 16\, 2021 | 8:00 PM EDT\n \nSave the date and register here. \n
URL:https://ontariokofc.ca/calendar/church-drives-membership-engagement/
CATEGORIES:Council Event
END:VEVENT
END:VCALENDAR