BEGIN:VCALENDAR
VERSION:2.0
PRODID:-//Ontario Knights Of Columbus - ECPv5.0.1//NONSGML v1.0//EN
CALSCALE:GREGORIAN
METHOD:PUBLISH
X-WR-CALNAME:Ontario Knights Of Columbus
X-ORIGINAL-URL:https://ontariokofc.ca
X-WR-CALDESC:Events for Ontario Knights Of Columbus
BEGIN:VTIMEZONE
TZID:UTC
BEGIN:STANDARD
TZOFFSETFROM:+0000
TZOFFSETTO:+0000
TZNAME:UTC
DTSTART:20230101T000000
END:STANDARD
END:VTIMEZONE
BEGIN:VEVENT
DTSTART;VALUE=DATE:20230107
DTEND;VALUE=DATE:20230108
DTSTAMP:20260422T135159
CREATED:20221118T145114Z
LAST-MODIFIED:20221118T145114Z
UID:16033-1673049600-1673049600@ontariokofc.ca
SUMMARY:Charity Can & Bottle Drive
DESCRIPTION:Charity Can & Bottle Drive at St. Catherine of Siena Parish (Our Lady of Lourdes site)\n416 Mohawk Road East – Hamilton\n9:00am – 1:00pm\n download  \n
URL:https://ontariokofc.ca/calendar/charity-can-bottle-drive-2/
CATEGORIES:Council Event,Event
ATTACH;FMTTYPE=image/png:https://ontariokofc.ca/wp-content/uploads/2018/05/images.png
END:VEVENT
END:VCALENDAR