BEGIN:VCALENDAR
VERSION:2.0
PRODID:-//Ontario Knights Of Columbus - ECPv5.0.1//NONSGML v1.0//EN
CALSCALE:GREGORIAN
METHOD:PUBLISH
X-WR-CALNAME:Ontario Knights Of Columbus
X-ORIGINAL-URL:https://ontariokofc.ca
X-WR-CALDESC:Events for Ontario Knights Of Columbus
BEGIN:VTIMEZONE
TZID:UTC
BEGIN:STANDARD
TZOFFSETFROM:+0000
TZOFFSETTO:+0000
TZNAME:UTC
DTSTART:20190101T000000
END:STANDARD
END:VTIMEZONE
BEGIN:VEVENT
DTSTART;VALUE=DATE:20190504
DTEND;VALUE=DATE:20190505
DTSTAMP:20260421T205353
CREATED:20190130T220129Z
LAST-MODIFIED:20190215T161304Z
UID:5730-1556928000-1557014399@ontariokofc.ca
SUMMARY:Charity Floor Hockey Game
DESCRIPTION:District 109 is sponsoring a Charity Floor Hockey Game at the Dave Andreychuk Mountain Arena\, 25 Hester Street Hamilton Ontario\, \nThis game will be between the Hamilton Police Services Team versus The Hamilton Steel Hawks Floor Hockey Team. \nThe proceeds from this event will go in support of The great work that the Hamilton Special Olympics Do in our city. \nThank you\nSK Robert Palmer \n
URL:https://ontariokofc.ca/calendar/charity-floor-hockey-game/
LOCATION:Dave Andreychuk Mountain Arena & Skating Rink\, 25 Hester St.\, Hamilton\, Ontario (ON)\, L9A 2N3\, Canada
CATEGORIES:Council Event,Event
ATTACH;FMTTYPE=image/jpeg:https://ontariokofc.ca/wp-content/uploads/2019/01/Special-Olympics-Floor-Hockey.jpg
END:VEVENT
END:VCALENDAR