BEGIN:VCALENDAR
VERSION:2.0
PRODID:-//Ontario Knights Of Columbus - ECPv5.0.1//NONSGML v1.0//EN
CALSCALE:GREGORIAN
METHOD:PUBLISH
X-WR-CALNAME:Ontario Knights Of Columbus
X-ORIGINAL-URL:https://ontariokofc.ca
X-WR-CALDESC:Events for Ontario Knights Of Columbus
BEGIN:VTIMEZONE
TZID:UTC
BEGIN:STANDARD
TZOFFSETFROM:+0000
TZOFFSETTO:+0000
TZNAME:UTC
DTSTART:20180101T000000
END:STANDARD
END:VTIMEZONE
BEGIN:VEVENT
DTSTART;VALUE=DATE:20180914
DTEND;VALUE=DATE:20180915
DTSTAMP:20260422T110932
CREATED:20180601T151546Z
LAST-MODIFIED:20180821T203700Z
UID:3347-1536883200-1536969599@ontariokofc.ca
SUMMARY:8th Annual Ontario Golf Tournament - Lowville Golf Club in Burlington
DESCRIPTION:
URL:https://ontariokofc.ca/calendar/8th-annual-ontario-golf-tournament-lowville-golf-club-in-burlington-september-14/
CATEGORIES:Council Event,Event,Ontario State Office
ATTACH;FMTTYPE=image/jpeg:https://ontariokofc.ca/wp-content/uploads/2018/06/kofc-events-defaultImage.jpg
END:VEVENT
BEGIN:VEVENT
DTSTART;VALUE=DATE:20180914
DTEND;VALUE=DATE:20180915
DTSTAMP:20260422T110932
CREATED:20180727T172108Z
LAST-MODIFIED:20180813T152126Z
UID:4246-1536883200-1536969599@ontariokofc.ca
SUMMARY:Ontario State - Golf Tournament
DESCRIPTION:Lowville Golf Club\n2662 Britannia Road\, Burlington\, Ontario \nStarting time: 1:00pm Shotgun Start – Best Ball Format \n$150.00 per person:\nLunch – Pulled Pork Sandwiches\n18 Holes of Great Golf\nPower Cart – Contest – Prizes\nDinner – Prime Rib \nContact: Marcel Lemmen\nmlemmen@emprecise.com \n 2018 Golf Flyer and Registration  \n \n
URL:https://ontariokofc.ca/calendar/ontario-state-golf-tournament/
CATEGORIES:Council Event,Event
ATTACH;FMTTYPE=image/jpeg:https://ontariokofc.ca/wp-content/uploads/2018/07/1532712041-eventpage-golf-tournament-1600x600.jpg
END:VEVENT
END:VCALENDAR