BEGIN:VCALENDAR
VERSION:2.0
PRODID:-//Ontario Knights Of Columbus - ECPv5.0.1//NONSGML v1.0//EN
CALSCALE:GREGORIAN
METHOD:PUBLISH
X-WR-CALNAME:Ontario Knights Of Columbus
X-ORIGINAL-URL:https://ontariokofc.ca
X-WR-CALDESC:Events for Ontario Knights Of Columbus
BEGIN:VTIMEZONE
TZID:UTC
BEGIN:STANDARD
TZOFFSETFROM:+0000
TZOFFSETTO:+0000
TZNAME:UTC
DTSTART:20180101T000000
END:STANDARD
END:VTIMEZONE
BEGIN:VEVENT
DTSTART;VALUE=DATE:20180712
DTEND;VALUE=DATE:20180713
DTSTAMP:20260422T142559
CREATED:20180601T151414Z
LAST-MODIFIED:20180601T151414Z
UID:3345-1531353600-1531353600@ontariokofc.ca
SUMMARY:Lottery Draw - July 12\, 2018\, at 1:00 pm - Best Western Premier C Hotel by Carmen’s\, 1530 Stone Church Rd East\, Hamilton
DESCRIPTION:
URL:https://ontariokofc.ca/calendar/lottery-draw-july-12-2018-at-100-pm-best-western-premier-c-hotel-by-carmens-1530-stone-church-rd-east-hamilton/
CATEGORIES:Council Event,Event,Ontario State Office
ATTACH;FMTTYPE=image/jpeg:https://ontariokofc.ca/wp-content/uploads/2018/06/kofc-events-defaultImage.jpg
END:VEVENT
END:VCALENDAR