BEGIN:VCALENDAR
VERSION:2.0
PRODID:-//Ontario Knights Of Columbus - ECPv5.0.1//NONSGML v1.0//EN
CALSCALE:GREGORIAN
METHOD:PUBLISH
X-WR-CALNAME:Ontario Knights Of Columbus
X-ORIGINAL-URL:https://ontariokofc.ca
X-WR-CALDESC:Events for Ontario Knights Of Columbus
BEGIN:VTIMEZONE
TZID:UTC
BEGIN:STANDARD
TZOFFSETFROM:+0000
TZOFFSETTO:+0000
TZNAME:UTC
DTSTART:20180101T000000
END:STANDARD
END:VTIMEZONE
BEGIN:VEVENT
DTSTART;VALUE=DATE:20180301
DTEND;VALUE=DATE:20180302
DTSTAMP:20260422T202121
CREATED:20180601T135125Z
LAST-MODIFIED:20180601T135125Z
UID:3297-1519862400-1519862400@ontariokofc.ca
SUMMARY:SO-2 Deceased Members Form
DESCRIPTION: download  \n
URL:https://ontariokofc.ca/calendar/so-2-deceased-members-form/
CATEGORIES:Council Event,Event,Ontario State Office
ATTACH;FMTTYPE=image/jpeg:https://ontariokofc.ca/wp-content/uploads/2018/06/kofc-events-defaultImage.jpg
END:VEVENT
BEGIN:VEVENT
DTSTART;VALUE=DATE:20180301
DTEND;VALUE=DATE:20180302
DTSTAMP:20260422T202121
CREATED:20180601T135619Z
LAST-MODIFIED:20180601T135619Z
UID:3299-1519862400-1519862400@ontariokofc.ca
SUMMARY:(SO-17) Delegate Nomination for Supreme Convention
DESCRIPTION: download  \n
URL:https://ontariokofc.ca/calendar/so-17-delegate-nomination-for-supreme-convention/
CATEGORIES:Council Event,Event,Ontario State Office
ATTACH;FMTTYPE=image/jpeg:https://ontariokofc.ca/wp-content/uploads/2018/06/kofc-events-defaultImage.jpg
END:VEVENT
BEGIN:VEVENT
DTSTART;VALUE=DATE:20180301
DTEND;VALUE=DATE:20180302
DTSTAMP:20260422T202121
CREATED:20180601T135731Z
LAST-MODIFIED:20180601T135731Z
UID:3301-1519862400-1519862400@ontariokofc.ca
SUMMARY:Family of the Year Entry Forms
DESCRIPTION: download  \n
URL:https://ontariokofc.ca/calendar/family-of-the-year-entry-forms/
CATEGORIES:Council Event,Event,Ontario State Office
ATTACH;FMTTYPE=image/jpeg:https://ontariokofc.ca/wp-content/uploads/2018/06/kofc-events-defaultImage.jpg
END:VEVENT
END:VCALENDAR