BEGIN:VCALENDAR
VERSION:2.0
PRODID:-//Ontario Knights Of Columbus - ECPv5.0.1//NONSGML v1.0//EN
CALSCALE:GREGORIAN
METHOD:PUBLISH
X-WR-CALNAME:Ontario Knights Of Columbus
X-ORIGINAL-URL:https://ontariokofc.ca
X-WR-CALDESC:Events for Ontario Knights Of Columbus
BEGIN:VTIMEZONE
TZID:UTC
BEGIN:STANDARD
TZOFFSETFROM:+0000
TZOFFSETTO:+0000
TZNAME:UTC
DTSTART:20180101T000000
END:STANDARD
END:VTIMEZONE
BEGIN:VEVENT
DTSTART;VALUE=DATE:20180228
DTEND;VALUE=DATE:20180301
DTSTAMP:20260422T202041
CREATED:20180601T134842Z
LAST-MODIFIED:20180601T134842Z
UID:3295-1519776000-1519776000@ontariokofc.ca
SUMMARY:SO-13 Evaluation of District Deputy
DESCRIPTION:
URL:https://ontariokofc.ca/calendar/so-13-evaluation-of-district-deputy/
CATEGORIES:Council Event,Event,Ontario State Office
ATTACH;FMTTYPE=image/jpeg:https://ontariokofc.ca/wp-content/uploads/2018/06/kofc-events-defaultImage.jpg
END:VEVENT
END:VCALENDAR