BEGIN:VCALENDAR
VERSION:2.0
PRODID:-//Ontario Knights Of Columbus - ECPv5.0.1//NONSGML v1.0//EN
CALSCALE:GREGORIAN
METHOD:PUBLISH
X-WR-CALNAME:Ontario Knights Of Columbus
X-ORIGINAL-URL:https://ontariokofc.ca
X-WR-CALDESC:Events for Ontario Knights Of Columbus
BEGIN:VTIMEZONE
TZID:UTC
BEGIN:STANDARD
TZOFFSETFROM:+0000
TZOFFSETTO:+0000
TZNAME:UTC
DTSTART:20180101T000000
END:STANDARD
END:VTIMEZONE
BEGIN:VEVENT
DTSTART;VALUE=DATE:20180201
DTEND;VALUE=DATE:20180202
DTSTAMP:20260422T220953
CREATED:20180601T134021Z
LAST-MODIFIED:20180601T134021Z
UID:3289-1517443200-1517443200@ontariokofc.ca
SUMMARY:Resolutions received at State Office for 2018 State Convention
DESCRIPTION:
URL:https://ontariokofc.ca/calendar/resolutions-received-at-state-office-for-2018-state-convention/
CATEGORIES:Council Event,Event,Ontario State Office
ATTACH;FMTTYPE=image/jpeg:https://ontariokofc.ca/wp-content/uploads/2018/06/kofc-events-defaultImage.jpg
END:VEVENT
END:VCALENDAR