BEGIN:VCALENDAR
VERSION:2.0
PRODID:-//Ontario Knights Of Columbus - ECPv5.0.1//NONSGML v1.0//EN
CALSCALE:GREGORIAN
METHOD:PUBLISH
X-WR-CALNAME:Ontario Knights Of Columbus
X-ORIGINAL-URL:https://ontariokofc.ca
X-WR-CALDESC:Events for Ontario Knights Of Columbus
BEGIN:VTIMEZONE
TZID:UTC
BEGIN:STANDARD
TZOFFSETFROM:+0000
TZOFFSETTO:+0000
TZNAME:UTC
DTSTART:20230101T000000
END:STANDARD
END:VTIMEZONE
BEGIN:VEVENT
DTSTART;TZID=UTC:20230311T083000
DTEND;TZID=UTC:20230311T234500
DTSTAMP:20260422T104249
CREATED:20230309T211310Z
LAST-MODIFIED:20230309T222537Z
UID:17041-1678523400-1678578300@ontariokofc.ca
SUMMARY:Spiritual Reflection\, Day of Retreat
DESCRIPTION:We invite you to join us on Saturday\, March 11\, 2023 at 8:30amSpiritual Reflection\, Day of RetreatEVANGELIZATION\nat St. Josephine Bakhita Parish\n3200 Thomas Street\, Mississauga\, L5M 0N7 \n \n
URL:https://ontariokofc.ca/calendar/spiritual-reflection-day-of-retreat/
LOCATION:St. Josephine Bakhita Parish\, 3200 Thomas Street  Mississauga\, ON\, L5M 0N7\, 3200 Thomas Street\, Mississauga\, Ontario\, L5M 0N7\, Canada
CATEGORIES:Council Event,Event
END:VEVENT
END:VCALENDAR