BEGIN:VCALENDAR
VERSION:2.0
PRODID:-//Ontario Knights Of Columbus - ECPv5.0.1//NONSGML v1.0//EN
CALSCALE:GREGORIAN
METHOD:PUBLISH
X-WR-CALNAME:Ontario Knights Of Columbus
X-ORIGINAL-URL:https://ontariokofc.ca
X-WR-CALDESC:Events for Ontario Knights Of Columbus
BEGIN:VTIMEZONE
TZID:UTC
BEGIN:STANDARD
TZOFFSETFROM:+0000
TZOFFSETTO:+0000
TZNAME:UTC
DTSTART:20200101T000000
END:STANDARD
END:VTIMEZONE
BEGIN:VEVENT
DTSTART;TZID=UTC:20200917T200000
DTEND;TZID=UTC:20200917T210000
DTSTAMP:20260424T081938
CREATED:20200914T132017Z
LAST-MODIFIED:20200914T132335Z
UID:9564-1600372800-1600376400@ontariokofc.ca
SUMMARY:Fraternal Operations: A First Quarter Check-In
DESCRIPTION:Fraternal Operations: A First Quarter Check-In  Thur\, Sep 17\, 2020 8PM EDT \nClick here to register \nIn July we shared the keys to a Fast Start for your council. Last month we prepared for a full year of Faith in Action. So\, let’s check-in! How is your council doing? \nJoin us in our next webinar to: \n\nDiscuss items councils should complete by Sept. 30th (and still can!)\nPlan for key programs and activities over the next three months \nLearn the latest on Father McGivney’s Beatification –\nand what your council can do to celebrate and promote his vision\n\nWe’ll share the latest news from the field on our Leave No Neighbor Behind successes\, and cover the latest operations updates to keep your council focused on spreading charity\, unity and fraternity. \n
URL:https://ontariokofc.ca/calendar/fraternal-operations-a-first-quarter-check-in/
CATEGORIES:Council Event
END:VEVENT
END:VCALENDAR