BEGIN:VCALENDAR
VERSION:2.0
PRODID:-//Ontario Knights Of Columbus - ECPv5.0.1//NONSGML v1.0//EN
CALSCALE:GREGORIAN
METHOD:PUBLISH
X-WR-CALNAME:Ontario Knights Of Columbus
X-ORIGINAL-URL:https://ontariokofc.ca
X-WR-CALDESC:Events for Ontario Knights Of Columbus
BEGIN:VTIMEZONE
TZID:UTC
BEGIN:STANDARD
TZOFFSETFROM:+0000
TZOFFSETTO:+0000
TZNAME:UTC
DTSTART:20200101T000000
END:STANDARD
END:VTIMEZONE
BEGIN:VEVENT
DTSTART;TZID=UTC:20200813T200000
DTEND;TZID=UTC:20200813T210000
DTSTAMP:20260424T094521
CREATED:20200610T134421Z
LAST-MODIFIED:20200610T134641Z
UID:8169-1597348800-1597352400@ontariokofc.ca
SUMMARY:Knights of Columbus Webinar
DESCRIPTION:Frank Talk for Fraternal Leaders\nThurs.\, August 13\, 2020\n8:00 p.m. Eastern Daylight Time \nClick now on the below link to register for the webinar. Invite your council officers and directors\, especially those newly elected and appointed. Encourage them to register too. \nREGISTER NOW \n
URL:https://ontariokofc.ca/calendar/knights-of-columbus-webinar-5/
CATEGORIES:Council Event
END:VEVENT
END:VCALENDAR