BEGIN:VCALENDAR
VERSION:2.0
PRODID:-//Ontario Knights Of Columbus - ECPv5.0.1//NONSGML v1.0//EN
CALSCALE:GREGORIAN
METHOD:PUBLISH
X-WR-CALNAME:Ontario Knights Of Columbus
X-ORIGINAL-URL:https://ontariokofc.ca
X-WR-CALDESC:Events for Ontario Knights Of Columbus
BEGIN:VTIMEZONE
TZID:UTC
BEGIN:STANDARD
TZOFFSETFROM:+0000
TZOFFSETTO:+0000
TZNAME:UTC
DTSTART:20200101T000000
END:STANDARD
END:VTIMEZONE
BEGIN:VEVENT
DTSTART;TZID=UTC:20200710T100000
DTEND;TZID=UTC:20200710T100000
DTSTAMP:20260424T111612
CREATED:20200707T181640Z
LAST-MODIFIED:20200707T184401Z
UID:8821-1594375200-1594375200@ontariokofc.ca
SUMMARY:Virtual State Board Meeting at 10:00 a.m.
DESCRIPTION:State Board Meeting \n
URL:https://ontariokofc.ca/calendar/board-meeting/
CATEGORIES:Council Event
END:VEVENT
END:VCALENDAR